BEGIN:VCALENDAR
VERSION:2.0
PRODID:-//DTU.dk//NONSGML DTU.dk//EN
CALSCALE:GREGORIAN
BEGIN:VEVENT
DTSTART:20180612T090000
DTEND:20180612T170000
SUMMARY:Future of Patient Data Insights Talk
DESCRIPTION:<p style="color: rgb(104, 104, 104); padding: 0px; border: 0px rgb(221, 221, 221);">"Future of Patient Data" Copenhagen, June 12, 2018. Final reporting conference sharing key insights and associated opportunities of global workshop studies; linked to the current Danish/Nordic health &amp; patient data agenda.<br>\n<br>\nThe research for the Future of Patient Data has now been completed, and the final report is being prepared for publication. Workshop events in 2017 and early 2018 brought together leading experts across Europe, US, Canada, the Middle East, Africa and Asia to identify the key shifts taking place around how patient and health data is being generated, used, owned and accessed. This has generated a unique global view, not only of the key changes on the horizon, but also of regional variations and implications.<br>\n<br>\nAs a <a href="http://www.business.dtu.dk/english/Healthcare" target="_blank">DTU Business</a> and <a href="https://www.futureagenda.org" target="_blank">Future Agenda</a> joint initiative, the final reporting &ldquo;Future of Patient Data&rdquo; conference, including discussions on Danish/Nordic perspectives, takes place in Copenhagen on June 12, 2018. Please sign up for interest <a href="https://www.futureofpatientdata.com" target="_blank">here</a>.</p>\n<p style="color: rgb(104, 104, 104); padding: 0px; border: 0px rgb(221, 221, 221);">&nbsp;</p>
X-ALT-DESC;FMTTYPE=text/html:<p style="color: rgb(104, 104, 104); padding: 0px; border: 0px rgb(221, 221, 221);">"Future of Patient Data" Copenhagen, June 12, 2018. Final reporting conference sharing key insights and associated opportunities of global workshop studies; linked to the current Danish/Nordic health &amp; patient data agenda.<br>\n<br>\nThe research for the Future of Patient Data has now been completed, and the final report is being prepared for publication. Workshop events in 2017 and early 2018 brought together leading experts across Europe, US, Canada, the Middle East, Africa and Asia to identify the key shifts taking place around how patient and health data is being generated, used, owned and accessed. This has generated a unique global view, not only of the key changes on the horizon, but also of regional variations and implications.<br>\n<br>\nAs a <a href="http://www.business.dtu.dk/english/Healthcare" target="_blank">DTU Business</a> and <a href="https://www.futureagenda.org" target="_blank">Future Agenda</a> joint initiative, the final reporting &ldquo;Future of Patient Data&rdquo; conference, including discussions on Danish/Nordic perspectives, takes place in Copenhagen on June 12, 2018. Please sign up for interest <a href="https://www.futureofpatientdata.com" target="_blank">here</a>.</p>\n<p style="color: rgb(104, 104, 104); padding: 0px; border: 0px rgb(221, 221, 221);">&nbsp;</p>

URL:https://www.cachet.dk/calendar/2018/06/future-of-patient-data-insights
DTSTAMP:20260422T073000Z
UID:{0B758C9E-ADC7-4867-942C-629A6AC6DDA1}-20180612T090000-20180612T090000
LOCATION: DTU Business, Building 421, Entrance C, Kollegiebakken, 2800 Kgs. Lyngby, Denmark
END:VEVENT
END:VCALENDAR