BEGIN:VCALENDAR
VERSION:2.0
PRODID:-//DTU.dk//NONSGML DTU.dk//EN
CALSCALE:GREGORIAN
BEGIN:VEVENT
DTSTART:20190917T090000Z
DTEND:20190917T150000Z
SUMMARY:Machine learning for smartphone based monitoring and treatment of unipolar and bipolar disorders
DESCRIPTION:<p>Dear all CACHET researchers</p>\n<p>The next CACHET PhD student - Jonas Busk - is approaching the finish line and will defend his PhD on September 17 at 11:00 at DTU (specific room to be announced later). </p>\n<p><strong>Look at his phd at:</strong><br />\n<a rel="noopener noreferrer" rel="noopener noreferrer" href="http://www.cachet.dk/research/Finalized-PhD-Projects/Monitoring-and-Treatment-of-Unipolar-and-Bipolar-Disorders" target="_blank">http://www.cachet.dk/research/Finalized-PhD-Projects/Monitoring-and-Treatment-of-Unipolar-and-Bipolar-Disorders</a><br />\n<br />\nPlease reserve the time slot and join.</p>\n<br />
X-ALT-DESC;FMTTYPE=text/html:<p>Dear all CACHET researchers</p>\n<p>The next CACHET PhD student - Jonas Busk - is approaching the finish line and will defend his PhD on September 17 at 11:00 at DTU (specific room to be announced later). </p>\n<p><strong>Look at his phd at:</strong><br />\n<a rel="noopener noreferrer" rel="noopener noreferrer" href="http://www.cachet.dk/research/Finalized-PhD-Projects/Monitoring-and-Treatment-of-Unipolar-and-Bipolar-Disorders" target="_blank">http://www.cachet.dk/research/Finalized-PhD-Projects/Monitoring-and-Treatment-of-Unipolar-and-Bipolar-Disorders</a><br />\n<br />\nPlease reserve the time slot and join.</p>\n<br />

URL:https://www.cachet.dk/calendar/2019/09/machine-learning-for-smartphone-based-monitoring-and-treatment-of-unipolar-and-bipolar-disorders
DTSTAMP:20260424T071500Z
UID:{22CC6322-9824-4D54-8176-95934D7C3FF5}-20190917T090000Z-20190917T090000Z
LOCATION: 
END:VEVENT
END:VCALENDAR