BEGIN:VCALENDAR
VERSION:2.0
PRODID:-//DTU.dk//NONSGML DTU.dk//EN
CALSCALE:GREGORIAN
BEGIN:VEVENT
DTSTART:20170702T000000
DTEND:20170705T000000
SUMMARY:Digital Health 2017 Conference
DESCRIPTION:<p><strong>Global Public Health, Personalised Medicine, and Emergency Medicine in the Age of Big Data</strong></p>\n<p>Everything is affected by the digital revolution. The opportunities for interdisciplinary digital health research bringing together computer science to dramatically improve public health, global health and wellbeing of individuals and populations globally are extraordinary.</p>\n<p style="color: rgb(74, 74, 74); margin-top: 0px; padding: 0px; border: 0px;">Recent technological advances enabled by creation of real-time big data streams, social media, participatory and context-aware systems and infectious disease modelling are the focus of public health informatics.</p>\n<p style="color: rgb(74, 74, 74); margin-top: 0px; padding: 0px; border: 0px;">At Digital Health &nbsp;2017, held for the first time as an independent event, a new strategic theme will be introduced:&nbsp;<strong style="margin: 0px; padding: 0px; border: 0px;">emergency and humanitarian medicine&nbsp;</strong>addressing acute needs of natural and manmade disasters will leverage opportunities created by geo-located big data, mobile technology and crowdsourcing for improving resilience, early warning and response to disasters and emergencies. DH 2017 will cover a wide spectrum of subjects including communities of practice and social networks, analytics and engagement with tracking and monitoring wearable devices, big data, public health surveillance, persuasive technologies, epidemic intelligence, participatory surveillance, disaster and emergency medicine, serious games for public health interventions and automated early identification of health threats and response.</p>\n<p style="color: rgb(74, 74, 74); margin-top: 0px; margin-bottom: 20px; padding: 0px; border: 0px;">Building on successful conference series&nbsp;<a href="http://www.electronic-health.org/welcome.shtml" style="color: rgb(79, 115, 247); margin: 0px; padding: 0px; border: 0px;">Electronic healthcare (ehealth)</a>&nbsp;held in&nbsp;<a href="http://electronic-health.org/2008/index.shtml" style="color: rgb(79, 115, 247); margin: 0px; padding: 0px; border: 0px;">London (2008)</a>,&nbsp;<a href="http://electronic-health.org/2009/index.shtml" style="color: rgb(79, 115, 247); margin: 0px; padding: 0px; border: 0px;">Istanbul (2009)</a>,&nbsp;<a href="http://electronic-health.org/2010/index.shtml" style="color: rgb(79, 115, 247); margin: 0px; padding: 0px; border: 0px;">Casablanca (2010)</a>&nbsp;and&nbsp;<a href="http://electronic-health.org/" style="color: rgb(79, 115, 247); margin: 0px; padding: 0px; border: 0px;">Malaga (2011)</a>&nbsp;and Public Health in Digital Age Workshop held with WWW conference in&nbsp;<a href="http://2013.digitalhealth.ws/" style="color: rgb(79, 115, 247); margin: 0px; padding: 0px; border: 0px;">Rio de Janeiro (2013)</a>&nbsp;and&nbsp;<a href="http://www.digitalhealth.ws/" style="color: rgb(79, 115, 247); margin: 0px; padding: 0px; border: 0px;">Seoul (2014)</a>, and then&nbsp;<a href="http://www.acm-digitalhealth.org/" style="color: rgb(79, 115, 247); margin: 0px; padding: 0px; border: 0px;">Digital Health 2015</a>&nbsp;held in Florence, and&nbsp;<a href="http://www.acm-digitalhealth.org/dh2016" style="color: rgb(79, 115, 247); margin: 0px; padding: 0px; border: 0px;">Digital Health 2016</a>&nbsp;in Montreal, the aim of this interdisciplinary conference is to bring together public health agencies (WHO, ECDC, CDC, PHE) and computer science and IT and MedTech industry to cross-fertilize ideas and drive this growing interdisciplinary discipline.</p>
X-ALT-DESC;FMTTYPE=text/html:<p><strong>Global Public Health, Personalised Medicine, and Emergency Medicine in the Age of Big Data</strong></p>\n<p>Everything is affected by the digital revolution. The opportunities for interdisciplinary digital health research bringing together computer science to dramatically improve public health, global health and wellbeing of individuals and populations globally are extraordinary.</p>\n<p style="color: rgb(74, 74, 74); margin-top: 0px; padding: 0px; border: 0px;">Recent technological advances enabled by creation of real-time big data streams, social media, participatory and context-aware systems and infectious disease modelling are the focus of public health informatics.</p>\n<p style="color: rgb(74, 74, 74); margin-top: 0px; padding: 0px; border: 0px;">At Digital Health &nbsp;2017, held for the first time as an independent event, a new strategic theme will be introduced:&nbsp;<strong style="margin: 0px; padding: 0px; border: 0px;">emergency and humanitarian medicine&nbsp;</strong>addressing acute needs of natural and manmade disasters will leverage opportunities created by geo-located big data, mobile technology and crowdsourcing for improving resilience, early warning and response to disasters and emergencies. DH 2017 will cover a wide spectrum of subjects including communities of practice and social networks, analytics and engagement with tracking and monitoring wearable devices, big data, public health surveillance, persuasive technologies, epidemic intelligence, participatory surveillance, disaster and emergency medicine, serious games for public health interventions and automated early identification of health threats and response.</p>\n<p style="color: rgb(74, 74, 74); margin-top: 0px; margin-bottom: 20px; padding: 0px; border: 0px;">Building on successful conference series&nbsp;<a href="http://www.electronic-health.org/welcome.shtml" style="color: rgb(79, 115, 247); margin: 0px; padding: 0px; border: 0px;">Electronic healthcare (ehealth)</a>&nbsp;held in&nbsp;<a href="http://electronic-health.org/2008/index.shtml" style="color: rgb(79, 115, 247); margin: 0px; padding: 0px; border: 0px;">London (2008)</a>,&nbsp;<a href="http://electronic-health.org/2009/index.shtml" style="color: rgb(79, 115, 247); margin: 0px; padding: 0px; border: 0px;">Istanbul (2009)</a>,&nbsp;<a href="http://electronic-health.org/2010/index.shtml" style="color: rgb(79, 115, 247); margin: 0px; padding: 0px; border: 0px;">Casablanca (2010)</a>&nbsp;and&nbsp;<a href="http://electronic-health.org/" style="color: rgb(79, 115, 247); margin: 0px; padding: 0px; border: 0px;">Malaga (2011)</a>&nbsp;and Public Health in Digital Age Workshop held with WWW conference in&nbsp;<a href="http://2013.digitalhealth.ws/" style="color: rgb(79, 115, 247); margin: 0px; padding: 0px; border: 0px;">Rio de Janeiro (2013)</a>&nbsp;and&nbsp;<a href="http://www.digitalhealth.ws/" style="color: rgb(79, 115, 247); margin: 0px; padding: 0px; border: 0px;">Seoul (2014)</a>, and then&nbsp;<a href="http://www.acm-digitalhealth.org/" style="color: rgb(79, 115, 247); margin: 0px; padding: 0px; border: 0px;">Digital Health 2015</a>&nbsp;held in Florence, and&nbsp;<a href="http://www.acm-digitalhealth.org/dh2016" style="color: rgb(79, 115, 247); margin: 0px; padding: 0px; border: 0px;">Digital Health 2016</a>&nbsp;in Montreal, the aim of this interdisciplinary conference is to bring together public health agencies (WHO, ECDC, CDC, PHE) and computer science and IT and MedTech industry to cross-fertilize ideas and drive this growing interdisciplinary discipline.</p>

URL:https://www.cachet.dk/calendar/2017/07/digital_health_2017
DTSTAMP:20260420T051500Z
UID:{A682CD96-81B4-4DC0-8876-75FF0D4C1B14}-20170702T000000-20170702T000000
LOCATION: London, UK
END:VEVENT
END:VCALENDAR